BEGIN:VCALENDAR
VERSION:2.0
PRODID:-//Beste Hendl im Zillertal - ECPv5.12.4//NONSGML v1.0//EN
CALSCALE:GREGORIAN
METHOD:PUBLISH
X-WR-CALNAME:Beste Hendl im Zillertal
X-ORIGINAL-URL:https://hendlrudi.at
X-WR-CALDESC:Events for Beste Hendl im Zillertal
REFRESH-INTERVAL;VALUE=DURATION:PT1H
X-Robots-Tag:noindex
X-PUBLISHED-TTL:PT1H
BEGIN:VTIMEZONE
TZID:Europe/Vienna
BEGIN:DAYLIGHT
TZOFFSETFROM:+0100
TZOFFSETTO:+0200
TZNAME:CEST
DTSTART:20200329T010000
END:DAYLIGHT
BEGIN:STANDARD
TZOFFSETFROM:+0200
TZOFFSETTO:+0100
TZNAME:CET
DTSTART:20201025T010000
END:STANDARD
END:VTIMEZONE
BEGIN:VEVENT
DTSTART;TZID=Europe/Vienna:20200913T110000
DTEND;TZID=Europe/Vienna:20200913T130000
DTSTAMP:20260423T013900
CREATED:20200831T143845Z
LAST-MODIFIED:20200831T143845Z
UID:460-1599994800-1600002000@hendlrudi.at
SUMMARY:Frische Grillhähnchen beim Musikpavillon in Stumm
DESCRIPTION:Heute sind wir beim Abschlusskonzert der Blasmusikkapelle Stumm vertreten.
URL:https://hendlrudi.at/kalender/frische-grillhahnchen-beim-musikpavillon-in-stumm/
LOCATION:Musikpavillon Stumm\, Dorfstr. 29\, Stumm\, Tirol\, 6275\, Austria
END:VEVENT
END:VCALENDAR