BEGIN:VCALENDAR
VERSION:2.0
PRODID:-//Beste Hendl im Zillertal - ECPv5.12.4//NONSGML v1.0//EN
CALSCALE:GREGORIAN
METHOD:PUBLISH
X-WR-CALNAME:Beste Hendl im Zillertal
X-ORIGINAL-URL:https://hendlrudi.at
X-WR-CALDESC:Events for Beste Hendl im Zillertal
REFRESH-INTERVAL;VALUE=DURATION:PT1H
X-Robots-Tag:noindex
X-PUBLISHED-TTL:PT1H
BEGIN:VTIMEZONE
TZID:Europe/Vienna
BEGIN:DAYLIGHT
TZOFFSETFROM:+0100
TZOFFSETTO:+0200
TZNAME:CEST
DTSTART:20220327T010000
END:DAYLIGHT
BEGIN:STANDARD
TZOFFSETFROM:+0200
TZOFFSETTO:+0100
TZNAME:CET
DTSTART:20221030T010000
END:STANDARD
END:VTIMEZONE
BEGIN:VEVENT
DTSTART;TZID=Europe/Vienna:20220129T110000
DTEND;TZID=Europe/Vienna:20220129T123000
DTSTAMP:20260421T091913
CREATED:20220125T192739Z
LAST-MODIFIED:20220128T105748Z
UID:727-1643454000-1643459400@hendlrudi.at
SUMMARY:Frische Grillhendl bei RAIKA in Stumm
DESCRIPTION:ACHTUNG NEUER STANDORT – RAIKA STUMM!
URL:https://hendlrudi.at/kalender/frische-grillhendl-bei-raika-in-stumm/
LOCATION:Raika Stumm\, Dorfstr. 17\, 6275 Stumm\, Dorfstr. 17\, Stumm\, 6275\, Austria
END:VEVENT
END:VCALENDAR