BEGIN:VCALENDAR
VERSION:2.0
PRODID:-//Beste Hendl im Zillertal - ECPv5.12.4//NONSGML v1.0//EN
CALSCALE:GREGORIAN
METHOD:PUBLISH
X-WR-CALNAME:Beste Hendl im Zillertal
X-ORIGINAL-URL:https://hendlrudi.at
X-WR-CALDESC:Events for Beste Hendl im Zillertal
REFRESH-INTERVAL;VALUE=DURATION:PT1H
X-Robots-Tag:noindex
X-PUBLISHED-TTL:PT1H
BEGIN:VTIMEZONE
TZID:Europe/Vienna
BEGIN:DAYLIGHT
TZOFFSETFROM:+0100
TZOFFSETTO:+0200
TZNAME:CEST
DTSTART:20220327T010000
END:DAYLIGHT
BEGIN:STANDARD
TZOFFSETFROM:+0200
TZOFFSETTO:+0100
TZNAME:CET
DTSTART:20221030T010000
END:STANDARD
END:VTIMEZONE
BEGIN:VEVENT
DTSTART;VALUE=DATE:20220527
DTEND;VALUE=DATE:20220528
DTSTAMP:20260421T054445
CREATED:20220426T075219Z
LAST-MODIFIED:20220426T075219Z
UID:799-1653609600-1653695999@hendlrudi.at
SUMMARY:Frische Grillhähnchen bei der Blechlawine in Mayrhofen
DESCRIPTION:
URL:https://hendlrudi.at/kalender/frische-grillhaehnchen-bei-der-blechlawine-in-mayrhofen-2/
LOCATION:Blechlawine Mayrhofen\, Dursterstr. 225\, Mayrhofen\, Tirol\, 6290\, Austria
END:VEVENT
END:VCALENDAR