BEGIN:VCALENDAR
VERSION:2.0
PRODID:-//Beste Hendl im Zillertal - ECPv5.12.4//NONSGML v1.0//EN
CALSCALE:GREGORIAN
METHOD:PUBLISH
X-WR-CALNAME:Beste Hendl im Zillertal
X-ORIGINAL-URL:https://hendlrudi.at
X-WR-CALDESC:Events for Beste Hendl im Zillertal
REFRESH-INTERVAL;VALUE=DURATION:PT1H
X-Robots-Tag:noindex
X-PUBLISHED-TTL:PT1H
BEGIN:VTIMEZONE
TZID:Europe/Vienna
BEGIN:DAYLIGHT
TZOFFSETFROM:+0100
TZOFFSETTO:+0200
TZNAME:CEST
DTSTART:20200329T010000
END:DAYLIGHT
BEGIN:STANDARD
TZOFFSETFROM:+0200
TZOFFSETTO:+0100
TZNAME:CET
DTSTART:20201025T010000
END:STANDARD
END:VTIMEZONE
BEGIN:VEVENT
DTSTART;TZID=Europe/Vienna:20200604T110000
DTEND;TZID=Europe/Vienna:20200604T123000
DTSTAMP:20260423T013916
CREATED:20200626T090007Z
LAST-MODIFIED:20200624T064147Z
UID:362-1591268400-1591273800@hendlrudi.at
SUMMARY:Frische Grillhendl bei Spar in Schlitters
DESCRIPTION:
URL:https://hendlrudi.at/kalender/frische-grillhendl-bei-spar-in-schlitters-2/
LOCATION:SPAR Markt Uderns\, Dorfstr. 81\, Uderns\, Tirol\, 6271\, Austria
END:VEVENT
BEGIN:VEVENT
DTSTART;TZID=Europe/Vienna:20200606T110000
DTEND;TZID=Europe/Vienna:20200606T113000
DTSTAMP:20260423T013916
CREATED:20200602T073750Z
LAST-MODIFIED:20200602T073750Z
UID:382-1591441200-1591443000@hendlrudi.at
SUMMARY:Frische Grillhendl bei Expert Moser
DESCRIPTION:
URL:https://hendlrudi.at/kalender/frische-grillhendl-bei-expert-moser-2/
LOCATION:Tirol
END:VEVENT
BEGIN:VEVENT
DTSTART;TZID=Europe/Vienna:20200612T110000
DTEND;TZID=Europe/Vienna:20200612T130000
DTSTAMP:20260423T013916
CREATED:20200525T071520Z
LAST-MODIFIED:20200602T074250Z
UID:367-1591959600-1591966800@hendlrudi.at
SUMMARY:Frische Grillhendl beim Zillertaler Bauernmarkt in Mayrhofen
DESCRIPTION:
URL:https://hendlrudi.at/kalender/frische-grillhendl-beim-zillertaler-bauernmarkt-in-mayrhofen/
LOCATION:Zillertaler Bauernmarkt\, Josef-Riedl-Platz\, Mayrhofen\, Tirol\, 6290\, Austria
END:VEVENT
BEGIN:VEVENT
DTSTART;TZID=Europe/Vienna:20200613T110000
DTEND;TZID=Europe/Vienna:20200613T130000
DTSTAMP:20260423T013916
CREATED:20200506T114312Z
LAST-MODIFIED:20200602T074057Z
UID:336-1592046000-1592053200@hendlrudi.at
SUMMARY:Frische Grillhendl bei SPAR in Uderns
DESCRIPTION:
URL:https://hendlrudi.at/kalender/frische-grillhendl-bei-spar-in-uderns/
LOCATION:SPAR Markt Uderns\, Dorfstr. 81\, Uderns\, Tirol\, 6271\, Austria
END:VEVENT
BEGIN:VEVENT
DTSTART;TZID=Europe/Vienna:20200620T110000
DTEND;TZID=Europe/Vienna:20200620T123000
DTSTAMP:20260423T013916
CREATED:20200602T074523Z
LAST-MODIFIED:20200602T074523Z
UID:389-1592650800-1592656200@hendlrudi.at
SUMMARY:Frische Grillhendl bei Expert Moser in Stumm
DESCRIPTION:
URL:https://hendlrudi.at/kalender/frische-grillhendl-bei-expert-moser-in-stumm/
LOCATION:Tirol
END:VEVENT
BEGIN:VEVENT
DTSTART;TZID=Europe/Vienna:20200626T110000
DTEND;TZID=Europe/Vienna:20200626T130000
DTSTAMP:20260423T013916
CREATED:20200624T071952Z
LAST-MODIFIED:20200624T071952Z
UID:399-1593169200-1593176400@hendlrudi.at
SUMMARY:Frische Grillhendl bei SPAR in Schlitters
DESCRIPTION:
URL:https://hendlrudi.at/kalender/frische-grillhendl-bei-spar-in-schlitters-3/
LOCATION:Tirol
END:VEVENT
BEGIN:VEVENT
DTSTART;TZID=Europe/Vienna:20200627T110000
DTEND;TZID=Europe/Vienna:20200627T120000
DTSTAMP:20260423T013916
CREATED:20200602T074214Z
LAST-MODIFIED:20200602T074214Z
UID:385-1593255600-1593259200@hendlrudi.at
SUMMARY:Frische Grillhendl bei SPAR in Uderns
DESCRIPTION:
URL:https://hendlrudi.at/kalender/frische-grillhendl-bei-spar-in-uderns-2/
LOCATION:Tirol
END:VEVENT
BEGIN:VEVENT
DTSTART;TZID=Europe/Vienna:20200627T113000
DTEND;TZID=Europe/Vienna:20200627T130000
DTSTAMP:20260423T013916
CREATED:20200512T072919Z
LAST-MODIFIED:20200602T143157Z
UID:342-1593257400-1593262800@hendlrudi.at
SUMMARY:Frische Grillhendl bei Cafe Bar Rainer's
DESCRIPTION:Wir verköstigen die Gäste von Cafe- Bar Rainer’s\nauf Euer Kommen freut sich das Team von Cafe Rainer’s und natürlich Hendlrudi
URL:https://hendlrudi.at/kalender/frische-grillhendl-bei-cafe-bar-rainers/
LOCATION:Rainer’s Cafe Bar\, Rosenweg 2\, Fügen\, Tirol\, 6263\, Austria
END:VEVENT
END:VCALENDAR