BEGIN:VCALENDAR
VERSION:2.0
PRODID:-//Beste Hendl im Zillertal - ECPv5.12.4//NONSGML v1.0//EN
CALSCALE:GREGORIAN
METHOD:PUBLISH
X-WR-CALNAME:Beste Hendl im Zillertal
X-ORIGINAL-URL:https://hendlrudi.at
X-WR-CALDESC:Events for Beste Hendl im Zillertal
REFRESH-INTERVAL;VALUE=DURATION:PT1H
X-Robots-Tag:noindex
X-PUBLISHED-TTL:PT1H
BEGIN:VTIMEZONE
TZID:Europe/Vienna
BEGIN:DAYLIGHT
TZOFFSETFROM:+0100
TZOFFSETTO:+0200
TZNAME:CEST
DTSTART:20200329T010000
END:DAYLIGHT
BEGIN:STANDARD
TZOFFSETFROM:+0200
TZOFFSETTO:+0100
TZNAME:CET
DTSTART:20201025T010000
END:STANDARD
END:VTIMEZONE
BEGIN:VEVENT
DTSTART;TZID=Europe/Vienna:20200703T110000
DTEND;TZID=Europe/Vienna:20200703T130000
DTSTAMP:20260422T224416
CREATED:20200630T115744Z
LAST-MODIFIED:20200630T120006Z
UID:402-1593774000-1593781200@hendlrudi.at
SUMMARY:Frische Grillhähnchen bei KTM in Wiesing
DESCRIPTION:
URL:https://hendlrudi.at/kalender/frische-grillhahnchen-bei-ktm-in-munster/
LOCATION:KTM Kini Shop\, Larchwald 360\, Wiesing\, Tirol\, 6210\, Austria
END:VEVENT
BEGIN:VEVENT
DTSTART;TZID=Europe/Vienna:20200704T110000
DTEND;TZID=Europe/Vienna:20200704T130000
DTSTAMP:20260422T224416
CREATED:20200630T115824Z
LAST-MODIFIED:20200630T115949Z
UID:404-1593860400-1593867600@hendlrudi.at
SUMMARY:Frische Grillhähnchen bei Expert Moser in Stumm
DESCRIPTION:
URL:https://hendlrudi.at/kalender/frische-grillhahnchen-bei-expert-moser-in-stumm/
LOCATION:Expert Moser in Stumm\, Obere März 1\, Stumm\, Tirol\, 6275\, Austria
END:VEVENT
BEGIN:VEVENT
DTSTART;TZID=Europe/Vienna:20200710T110000
DTEND;TZID=Europe/Vienna:20200710T130000
DTSTAMP:20260422T224416
CREATED:20200630T115933Z
LAST-MODIFIED:20200630T115933Z
UID:406-1594378800-1594386000@hendlrudi.at
SUMMARY:Frische Grillhähnchen beim Bauernmarkt in Mayrhofen
DESCRIPTION:
URL:https://hendlrudi.at/kalender/frische-grillhahnchen-beim-bauernmarkt-in-mayrhofen/
LOCATION:Zillertaler Bauernmarkt\, Josef-Riedl-Platz\, Mayrhofen\, Tirol\, 6290\, Austria
END:VEVENT
BEGIN:VEVENT
DTSTART;TZID=Europe/Vienna:20200711T110000
DTEND;TZID=Europe/Vienna:20200711T130000
DTSTAMP:20260422T224416
CREATED:20200630T120139Z
LAST-MODIFIED:20200630T120139Z
UID:411-1594465200-1594472400@hendlrudi.at
SUMMARY:Frische Grillhähnchen bei SPAR in Uderns
DESCRIPTION:
URL:https://hendlrudi.at/kalender/frische-grillhahnchen-bei-spar-in-uderns/
LOCATION:SPAR Markt Uderns\, Dorfstr. 81\, Uderns\, Tirol\, 6271\, Austria
END:VEVENT
BEGIN:VEVENT
DTSTART;TZID=Europe/Vienna:20200715T160000
DTEND;TZID=Europe/Vienna:20200715T190000
DTSTAMP:20260422T224416
CREATED:20200714T113617Z
LAST-MODIFIED:20200714T113617Z
UID:419-1594828800-1594839600@hendlrudi.at
SUMMARY:Frische Grillhähnchen beim Zillertaler Bauernmarkt in Zell am Ziller
DESCRIPTION:Standort: Pavillon Zell am Ziller
URL:https://hendlrudi.at/kalender/frische-grillhahnchen-beim-zillertaler-bauernmarkt-in-zell-am-ziller/
LOCATION:Tirol
END:VEVENT
BEGIN:VEVENT
DTSTART;TZID=Europe/Vienna:20200717T110000
DTEND;TZID=Europe/Vienna:20200717T130000
DTSTAMP:20260422T224416
CREATED:20200630T120041Z
LAST-MODIFIED:20200630T120041Z
UID:409-1594983600-1594990800@hendlrudi.at
SUMMARY:Frische Grillhähnchen beim Bauernmarkt in Mayrhofen
DESCRIPTION:
URL:https://hendlrudi.at/kalender/frische-grillhahnchen-beim-bauernmarkt-in-mayrhofen-2/
LOCATION:Zillertaler Bauernmarkt\, Josef-Riedl-Platz\, Mayrhofen\, Tirol\, 6290\, Austria
END:VEVENT
BEGIN:VEVENT
DTSTART;TZID=Europe/Vienna:20200718T110000
DTEND;TZID=Europe/Vienna:20200718T130000
DTSTAMP:20260422T224416
CREATED:20200630T120231Z
LAST-MODIFIED:20200630T120231Z
UID:413-1595070000-1595077200@hendlrudi.at
SUMMARY:Frische Grillhähnchen bei Expert Moser in Stumm
DESCRIPTION:
URL:https://hendlrudi.at/kalender/frische-grillhahnchen-bei-expert-moser-in-stumm-2/
LOCATION:Expert Moser in Stumm\, Obere März 1\, Stumm\, Tirol\, 6275\, Austria
END:VEVENT
BEGIN:VEVENT
DTSTART;TZID=Europe/Vienna:20200722T110000
DTEND;TZID=Europe/Vienna:20200722T123000
DTSTAMP:20260422T224416
CREATED:20200717T121530Z
LAST-MODIFIED:20200717T121530Z
UID:423-1595415600-1595421000@hendlrudi.at
SUMMARY:Frische Grillhähnchen beim Bioladen DaHoam in Kaltenbach
DESCRIPTION:
URL:https://hendlrudi.at/kalender/frische-grillhahnchen-beim-bioladen-dahoam-in-kaltenbach/
LOCATION:Bioladen Dahoam in Kaltenbach\, Schmiedau 2\, Kaltenbach\, Tirol\, 6272\, Austria
END:VEVENT
BEGIN:VEVENT
DTSTART;TZID=Europe/Vienna:20200725T110000
DTEND;TZID=Europe/Vienna:20200725T130000
DTSTAMP:20260422T224416
CREATED:20200630T120336Z
LAST-MODIFIED:20200630T120336Z
UID:415-1595674800-1595682000@hendlrudi.at
SUMMARY:Frische Grillhähnchen bei Spar in Uderns
DESCRIPTION:
URL:https://hendlrudi.at/kalender/frische-grillhahnchen-bei-spar-in-uderns-2/
LOCATION:SPAR Markt Uderns\, Dorfstr. 81\, Uderns\, Tirol\, 6271\, Austria
END:VEVENT
END:VCALENDAR