BEGIN:VCALENDAR
VERSION:2.0
PRODID:-//Beste Hendl im Zillertal - ECPv5.12.4//NONSGML v1.0//EN
CALSCALE:GREGORIAN
METHOD:PUBLISH
X-WR-CALNAME:Beste Hendl im Zillertal
X-ORIGINAL-URL:https://hendlrudi.at
X-WR-CALDESC:Events for Beste Hendl im Zillertal
REFRESH-INTERVAL;VALUE=DURATION:PT1H
X-Robots-Tag:noindex
X-PUBLISHED-TTL:PT1H
BEGIN:VTIMEZONE
TZID:Europe/Vienna
BEGIN:DAYLIGHT
TZOFFSETFROM:+0100
TZOFFSETTO:+0200
TZNAME:CEST
DTSTART:20200329T010000
END:DAYLIGHT
BEGIN:STANDARD
TZOFFSETFROM:+0200
TZOFFSETTO:+0100
TZNAME:CET
DTSTART:20201025T010000
END:STANDARD
END:VTIMEZONE
BEGIN:VEVENT
DTSTART;TZID=Europe/Vienna:20200905T110000
DTEND;TZID=Europe/Vienna:20200905T123000
DTSTAMP:20260422T144155
CREATED:20200831T143344Z
LAST-MODIFIED:20200831T143354Z
UID:450-1599303600-1599309000@hendlrudi.at
SUMMARY:Frische Grillhähnchen bei Expert Moser in Stumm!
DESCRIPTION:
URL:https://hendlrudi.at/kalender/frische-grillhahnchen-bei-expert-moser-in-stumm-5/
LOCATION:Expert Moser in Stumm\, Obere März 1\, Stumm\, Tirol\, 6275\, Austria
END:VEVENT
BEGIN:VEVENT
DTSTART;TZID=Europe/Vienna:20200909T163000
DTEND;TZID=Europe/Vienna:20200909T183000
DTSTAMP:20260422T144155
CREATED:20200831T143555Z
LAST-MODIFIED:20200831T143555Z
UID:456-1599669000-1599676200@hendlrudi.at
SUMMARY:Frische Grillhähnchen beim Bauernmarkt in Zell am Ziller
DESCRIPTION:
URL:https://hendlrudi.at/kalender/frische-grillhahnchen-beim-bauernmarkt-in-zell-am-ziller/
LOCATION:Zillertaler Bauernmarkt Zell am Ziller\, Unterdorf 1\, Zell am Ziller\, Tirol\, 6280\, Austria
END:VEVENT
BEGIN:VEVENT
DTSTART;TZID=Europe/Vienna:20200912T110000
DTEND;TZID=Europe/Vienna:20200912T123000
DTSTAMP:20260422T144155
CREATED:20200831T143640Z
LAST-MODIFIED:20200831T143640Z
UID:458-1599908400-1599913800@hendlrudi.at
SUMMARY:Frische Grillhähnchen bei SPAR in Uderns!
DESCRIPTION:
URL:https://hendlrudi.at/kalender/frische-grillhahnchen-bei-spar-in-uderns-5/
LOCATION:SPAR Markt Uderns\, Dorfstr. 81\, Uderns\, Tirol\, 6271\, Austria
END:VEVENT
BEGIN:VEVENT
DTSTART;TZID=Europe/Vienna:20200913T110000
DTEND;TZID=Europe/Vienna:20200913T130000
DTSTAMP:20260422T144155
CREATED:20200831T143845Z
LAST-MODIFIED:20200831T143845Z
UID:460-1599994800-1600002000@hendlrudi.at
SUMMARY:Frische Grillhähnchen beim Musikpavillon in Stumm
DESCRIPTION:Heute sind wir beim Abschlusskonzert der Blasmusikkapelle Stumm vertreten.
URL:https://hendlrudi.at/kalender/frische-grillhahnchen-beim-musikpavillon-in-stumm/
LOCATION:Musikpavillon Stumm\, Dorfstr. 29\, Stumm\, Tirol\, 6275\, Austria
END:VEVENT
BEGIN:VEVENT
DTSTART;TZID=Europe/Vienna:20200918T103000
DTEND;TZID=Europe/Vienna:20200918T130000
DTSTAMP:20260422T144155
CREATED:20200831T143936Z
LAST-MODIFIED:20200831T144034Z
UID:462-1600425000-1600434000@hendlrudi.at
SUMMARY:Frische Grillhähnchen beim Bauernmarkt in Mayrhofen
DESCRIPTION:
URL:https://hendlrudi.at/kalender/frische-grillhahnchen-beim-bauernmarkt-in-mayrhofen-4/
LOCATION:Zillertaler Bauernmarkt\, Josef-Riedl-Platz\, Mayrhofen\, Tirol\, 6290\, Austria
END:VEVENT
BEGIN:VEVENT
DTSTART;TZID=Europe/Vienna:20200919T110000
DTEND;TZID=Europe/Vienna:20200919T123000
DTSTAMP:20260422T144155
CREATED:20200831T144018Z
LAST-MODIFIED:20200831T144018Z
UID:464-1600513200-1600518600@hendlrudi.at
SUMMARY:Frische Grillhähnchen beim Expert Moser in Stumm!
DESCRIPTION:
URL:https://hendlrudi.at/kalender/frische-grillhahnchen-beim-expert-moser-in-stumm/
LOCATION:Expert Moser in Stumm\, Obere März 1\, Stumm\, Tirol\, 6275\, Austria
END:VEVENT
BEGIN:VEVENT
DTSTART;TZID=Europe/Vienna:20200926T110000
DTEND;TZID=Europe/Vienna:20200926T123000
DTSTAMP:20260422T144155
CREATED:20200831T144155Z
LAST-MODIFIED:20200831T144155Z
UID:468-1601118000-1601123400@hendlrudi.at
SUMMARY:Frische Grillhähnchen bei SPAR in Uderns
DESCRIPTION:
URL:https://hendlrudi.at/kalender/frische-grillhahnchen-bei-spar-in-uderns-6/
LOCATION:SPAR Markt Uderns\, Dorfstr. 81\, Uderns\, Tirol\, 6271\, Austria
END:VEVENT
END:VCALENDAR