BEGIN:VCALENDAR
VERSION:2.0
PRODID:-//Beste Hendl im Zillertal - ECPv5.12.4//NONSGML v1.0//EN
CALSCALE:GREGORIAN
METHOD:PUBLISH
X-WR-CALNAME:Beste Hendl im Zillertal
X-ORIGINAL-URL:https://hendlrudi.at
X-WR-CALDESC:Events for Beste Hendl im Zillertal
REFRESH-INTERVAL;VALUE=DURATION:PT1H
X-Robots-Tag:noindex
X-PUBLISHED-TTL:PT1H
BEGIN:VTIMEZONE
TZID:Europe/Vienna
BEGIN:DAYLIGHT
TZOFFSETFROM:+0100
TZOFFSETTO:+0200
TZNAME:CEST
DTSTART:20200329T010000
END:DAYLIGHT
BEGIN:STANDARD
TZOFFSETFROM:+0200
TZOFFSETTO:+0100
TZNAME:CET
DTSTART:20201025T010000
END:STANDARD
END:VTIMEZONE
BEGIN:VEVENT
DTSTART;TZID=Europe/Vienna:20201113T110000
DTEND;TZID=Europe/Vienna:20201113T123000
DTSTAMP:20260422T105720
CREATED:20201112T120012Z
LAST-MODIFIED:20201112T120012Z
UID:491-1605265200-1605270600@hendlrudi.at
SUMMARY:Frische Grillhähnchen bei SPAR in Schlitters
DESCRIPTION:
URL:https://hendlrudi.at/kalender/frische-grillhahnchen-bei-spar-in-schlitters-3/
LOCATION:SPAR Markt Schlitters\, Nr. 327\, Schlitters\, Tirol\, 6262\, Austria
END:VEVENT
BEGIN:VEVENT
DTSTART;TZID=Europe/Vienna:20201114T110000
DTEND;TZID=Europe/Vienna:20201114T123000
DTSTAMP:20260422T105721
CREATED:20201112T120053Z
LAST-MODIFIED:20201112T120053Z
UID:493-1605351600-1605357000@hendlrudi.at
SUMMARY:Frische Grillhähnchen bei Expert Moser in Stumm
DESCRIPTION:
URL:https://hendlrudi.at/kalender/frische-grillhahnchen-bei-expert-moser-in-stumm-9/
LOCATION:Expert Moser in Stumm\, Obere März 1\, Stumm\, Tirol\, 6275\, Austria
END:VEVENT
BEGIN:VEVENT
DTSTART;TZID=Europe/Vienna:20201121T110000
DTEND;TZID=Europe/Vienna:20201121T123000
DTSTAMP:20260422T105721
CREATED:20201112T120127Z
LAST-MODIFIED:20201112T120127Z
UID:495-1605956400-1605961800@hendlrudi.at
SUMMARY:Frische Grillhähnchen bei SPAR in Uderns
DESCRIPTION:
URL:https://hendlrudi.at/kalender/frische-grillhahnchen-bei-spar-in-uderns-9/
LOCATION:SPAR Markt Uderns\, Dorfstr. 81\, Uderns\, Tirol\, 6271\, Austria
END:VEVENT
BEGIN:VEVENT
DTSTART;TZID=Europe/Vienna:20201127T110000
DTEND;TZID=Europe/Vienna:20201127T123000
DTSTAMP:20260422T105721
CREATED:20201112T120211Z
LAST-MODIFIED:20201112T120211Z
UID:497-1606474800-1606480200@hendlrudi.at
SUMMARY:Frische Grillhähnchen bei SPAR in Schlitters
DESCRIPTION:
URL:https://hendlrudi.at/kalender/frische-grillhahnchen-bei-spar-in-schlitters-4/
LOCATION:SPAR Markt Schlitters\, Nr. 327\, Schlitters\, Tirol\, 6262\, Austria
END:VEVENT
BEGIN:VEVENT
DTSTART;TZID=Europe/Vienna:20201128T110000
DTEND;TZID=Europe/Vienna:20201128T123000
DTSTAMP:20260422T105721
CREATED:20201112T120246Z
LAST-MODIFIED:20201112T120246Z
UID:499-1606561200-1606566600@hendlrudi.at
SUMMARY:Frische Grillhähnchen bei Expert Moser in Stumm
DESCRIPTION:
URL:https://hendlrudi.at/kalender/frische-grillhahnchen-bei-expert-moser-in-stumm-10/
LOCATION:Expert Moser in Stumm\, Obere März 1\, Stumm\, Tirol\, 6275\, Austria
END:VEVENT
END:VCALENDAR