BEGIN:VCALENDAR
VERSION:2.0
PRODID:-//Beste Hendl im Zillertal - ECPv5.12.4//NONSGML v1.0//EN
CALSCALE:GREGORIAN
METHOD:PUBLISH
X-WR-CALNAME:Beste Hendl im Zillertal
X-ORIGINAL-URL:https://hendlrudi.at
X-WR-CALDESC:Events for Beste Hendl im Zillertal
REFRESH-INTERVAL;VALUE=DURATION:PT1H
X-Robots-Tag:noindex
X-PUBLISHED-TTL:PT1H
BEGIN:VTIMEZONE
TZID:Europe/Vienna
BEGIN:DAYLIGHT
TZOFFSETFROM:+0100
TZOFFSETTO:+0200
TZNAME:CEST
DTSTART:20200329T010000
END:DAYLIGHT
BEGIN:STANDARD
TZOFFSETFROM:+0200
TZOFFSETTO:+0100
TZNAME:CET
DTSTART:20201025T010000
END:STANDARD
END:VTIMEZONE
BEGIN:VEVENT
DTSTART;TZID=Europe/Vienna:20201205T110000
DTEND;TZID=Europe/Vienna:20201205T110000
DTSTAMP:20260422T081311
CREATED:20201204T095751Z
LAST-MODIFIED:20201204T095751Z
UID:505-1607166000-1607166000@hendlrudi.at
SUMMARY:Frische Grillhendl bei SPAR in UDERNS
DESCRIPTION:
URL:https://hendlrudi.at/kalender/frische-grillhendl-bei-spar-in-uderns-3/
LOCATION:SPAR Markt Uderns\, Dorfstr. 81\, Uderns\, Tirol\, 6271\, Austria
END:VEVENT
BEGIN:VEVENT
DTSTART;TZID=Europe/Vienna:20201211T110000
DTEND;TZID=Europe/Vienna:20201211T120000
DTSTAMP:20260422T081311
CREATED:20201204T095912Z
LAST-MODIFIED:20201204T095912Z
UID:507-1607684400-1607688000@hendlrudi.at
SUMMARY:Frische Grillhendl bei SPAR in SCHLITTERS
DESCRIPTION:
URL:https://hendlrudi.at/kalender/frische-grillhendl-bei-spar-in-schlitters-4/
LOCATION:SPAR Markt Schlitters\, Nr. 327\, Schlitters\, Tirol\, 6262\, Austria
END:VEVENT
BEGIN:VEVENT
DTSTART;TZID=Europe/Vienna:20201212T110000
DTEND;TZID=Europe/Vienna:20201212T130000
DTSTAMP:20260422T081312
CREATED:20201204T101546Z
LAST-MODIFIED:20201204T101546Z
UID:509-1607770800-1607778000@hendlrudi.at
SUMMARY:Frische Grillhendl bei Expert Moser in Stumm
DESCRIPTION:
URL:https://hendlrudi.at/kalender/frische-grillhendl-bei-expert-moser-in-stumm-2/
LOCATION:Expert Moser in Stumm\, Obere März 1\, Stumm\, Tirol\, 6275\, Austria
END:VEVENT
BEGIN:VEVENT
DTSTART;TZID=Europe/Vienna:20201219T110000
DTEND;TZID=Europe/Vienna:20201219T120000
DTSTAMP:20260422T081312
CREATED:20201204T101841Z
LAST-MODIFIED:20201204T101841Z
UID:511-1608375600-1608379200@hendlrudi.at
SUMMARY:Frische Grillhendl bei SPAR in Uderns
DESCRIPTION:
URL:https://hendlrudi.at/kalender/frische-grillhendl-bei-spar-in-uderns-4/
LOCATION:SPAR Markt Uderns\, Dorfstr. 81\, Uderns\, Tirol\, 6271\, Austria
END:VEVENT
END:VCALENDAR