BEGIN:VCALENDAR
VERSION:2.0
PRODID:-//Beste Hendl im Zillertal - ECPv5.12.4//NONSGML v1.0//EN
CALSCALE:GREGORIAN
METHOD:PUBLISH
X-WR-CALNAME:Beste Hendl im Zillertal
X-ORIGINAL-URL:https://hendlrudi.at
X-WR-CALDESC:Events for Beste Hendl im Zillertal
REFRESH-INTERVAL;VALUE=DURATION:PT1H
X-Robots-Tag:noindex
X-PUBLISHED-TTL:PT1H
BEGIN:VTIMEZONE
TZID:Europe/Vienna
BEGIN:DAYLIGHT
TZOFFSETFROM:+0100
TZOFFSETTO:+0200
TZNAME:CEST
DTSTART:20210328T010000
END:DAYLIGHT
BEGIN:STANDARD
TZOFFSETFROM:+0200
TZOFFSETTO:+0100
TZNAME:CET
DTSTART:20211031T010000
END:STANDARD
END:VTIMEZONE
BEGIN:VEVENT
DTSTART;TZID=Europe/Vienna:20210109T110000
DTEND;TZID=Europe/Vienna:20210109T123000
DTSTAMP:20260422T055902
CREATED:20210105T155438Z
LAST-MODIFIED:20210105T155438Z
UID:515-1610190000-1610195400@hendlrudi.at
SUMMARY:Frische Grillhendl bei Expert Moser in Stumm
DESCRIPTION:
URL:https://hendlrudi.at/kalender/frische-grillhendl-bei-expert-moser-in-stumm-3/
LOCATION:Expert Moser in Stumm\, Obere März 1\, Stumm\, Tirol\, 6275\, Austria
END:VEVENT
BEGIN:VEVENT
DTSTART;TZID=Europe/Vienna:20210116T110000
DTEND;TZID=Europe/Vienna:20210116T123000
DTSTAMP:20260422T055903
CREATED:20210105T155519Z
LAST-MODIFIED:20210105T155519Z
UID:517-1610794800-1610800200@hendlrudi.at
SUMMARY:Frische Grillhendl bei SPAR in Uderns
DESCRIPTION:
URL:https://hendlrudi.at/kalender/frische-grillhendl-bei-spar-in-uderns-5/
LOCATION:SPAR Markt Uderns\, Dorfstr. 81\, Uderns\, Tirol\, 6271\, Austria
END:VEVENT
BEGIN:VEVENT
DTSTART;TZID=Europe/Vienna:20210122T110000
DTEND;TZID=Europe/Vienna:20210122T130000
DTSTAMP:20260422T055903
CREATED:20210119T150828Z
LAST-MODIFIED:20210119T150828Z
UID:525-1611313200-1611320400@hendlrudi.at
SUMMARY:Frische Grillhendl bei SPAR in SCHLITTERS
DESCRIPTION:
URL:https://hendlrudi.at/kalender/frische-grillhendl-bei-spar-in-schlitters-5/
LOCATION:SPAR Markt Schlitters\, Nr. 327\, Schlitters\, Tirol\, 6262\, Austria
END:VEVENT
BEGIN:VEVENT
DTSTART;TZID=Europe/Vienna:20210123T110000
DTEND;TZID=Europe/Vienna:20210123T123000
DTSTAMP:20260422T055903
CREATED:20210105T155549Z
LAST-MODIFIED:20210105T155600Z
UID:519-1611399600-1611405000@hendlrudi.at
SUMMARY:Frische Grillhendl bei Expert Moser in Stumm
DESCRIPTION:
URL:https://hendlrudi.at/kalender/frische-grillhendl-bei-expert-moser-in-stumm-4/
LOCATION:Expert Moser in Stumm\, Obere März 1\, Stumm\, Tirol\, 6275\, Austria
END:VEVENT
BEGIN:VEVENT
DTSTART;TZID=Europe/Vienna:20210130T110000
DTEND;TZID=Europe/Vienna:20210130T123000
DTSTAMP:20260422T055903
CREATED:20210105T155637Z
LAST-MODIFIED:20210105T155637Z
UID:521-1612004400-1612009800@hendlrudi.at
SUMMARY:Frische Grillhendl bei SPAR in Uderns
DESCRIPTION:
URL:https://hendlrudi.at/kalender/frische-grillhendl-bei-spar-in-uderns-6/
LOCATION:SPAR Markt Uderns\, Dorfstr. 81\, Uderns\, Tirol\, 6271\, Austria
END:VEVENT
END:VCALENDAR