BEGIN:VCALENDAR
VERSION:2.0
PRODID:-//Beste Hendl im Zillertal - ECPv5.12.4//NONSGML v1.0//EN
CALSCALE:GREGORIAN
METHOD:PUBLISH
X-WR-CALNAME:Beste Hendl im Zillertal
X-ORIGINAL-URL:https://hendlrudi.at
X-WR-CALDESC:Events for Beste Hendl im Zillertal
REFRESH-INTERVAL;VALUE=DURATION:PT1H
X-Robots-Tag:noindex
X-PUBLISHED-TTL:PT1H
BEGIN:VTIMEZONE
TZID:Europe/Vienna
BEGIN:DAYLIGHT
TZOFFSETFROM:+0100
TZOFFSETTO:+0200
TZNAME:CEST
DTSTART:20210328T010000
END:DAYLIGHT
BEGIN:STANDARD
TZOFFSETFROM:+0200
TZOFFSETTO:+0100
TZNAME:CET
DTSTART:20211031T010000
END:STANDARD
END:VTIMEZONE
BEGIN:VEVENT
DTSTART;TZID=Europe/Vienna:20210423T110000
DTEND;TZID=Europe/Vienna:20210423T130000
DTSTAMP:20260422T010438
CREATED:20210421T092618Z
LAST-MODIFIED:20210421T092618Z
UID:553-1619175600-1619182800@hendlrudi.at
SUMMARY:Frische Grillhendl bei SPAR in Schlitters
DESCRIPTION:
URL:https://hendlrudi.at/kalender/frische-grillhendl-bei-spar-in-schlitters-6/
LOCATION:SPAR Markt Schlitters\, Nr. 327\, Schlitters\, Tirol\, 6262\, Austria
END:VEVENT
BEGIN:VEVENT
DTSTART;TZID=Europe/Vienna:20210424T110000
DTEND;TZID=Europe/Vienna:20210424T130000
DTSTAMP:20260422T010438
CREATED:20210421T092718Z
LAST-MODIFIED:20210421T092718Z
UID:555-1619262000-1619269200@hendlrudi.at
SUMMARY:Frische Grillhendl bei SPAR in Uderns
DESCRIPTION:
URL:https://hendlrudi.at/kalender/frische-grillhendl-bei-spar-in-uderns-7/
LOCATION:SPAR Markt Uderns\, Dorfstr. 81\, Uderns\, Tirol\, 6271\, Austria
END:VEVENT
BEGIN:VEVENT
DTSTART;TZID=Europe/Vienna:20210430T110000
DTEND;TZID=Europe/Vienna:20210430T130000
DTSTAMP:20260422T010438
CREATED:20210421T094033Z
LAST-MODIFIED:20210421T094033Z
UID:560-1619780400-1619787600@hendlrudi.at
SUMMARY:Frische Grillhendl beim Bauernmarkt in Mayrhofen
DESCRIPTION:
URL:https://hendlrudi.at/kalender/frische-grillhendl-beim-bauernmarkt-in-mayrhofen/
LOCATION:Zillertaler Bauernmarkt\, Josef-Riedl-Platz\, Mayrhofen\, Tirol\, 6290\, Austria
END:VEVENT
END:VCALENDAR