BEGIN:VCALENDAR
VERSION:2.0
PRODID:-//Beste Hendl im Zillertal - ECPv5.12.4//NONSGML v1.0//EN
CALSCALE:GREGORIAN
METHOD:PUBLISH
X-WR-CALNAME:Beste Hendl im Zillertal
X-ORIGINAL-URL:https://hendlrudi.at
X-WR-CALDESC:Events for Beste Hendl im Zillertal
REFRESH-INTERVAL;VALUE=DURATION:PT1H
X-Robots-Tag:noindex
X-PUBLISHED-TTL:PT1H
BEGIN:VTIMEZONE
TZID:Europe/Vienna
BEGIN:DAYLIGHT
TZOFFSETFROM:+0100
TZOFFSETTO:+0200
TZNAME:CEST
DTSTART:20210328T010000
END:DAYLIGHT
BEGIN:STANDARD
TZOFFSETFROM:+0200
TZOFFSETTO:+0100
TZNAME:CET
DTSTART:20211031T010000
END:STANDARD
END:VTIMEZONE
BEGIN:VEVENT
DTSTART;TZID=Europe/Vienna:20210807T110000
DTEND;TZID=Europe/Vienna:20210807T123000
DTSTAMP:20260421T191153
CREATED:20210721T083236Z
LAST-MODIFIED:20210721T083236Z
UID:635-1628334000-1628339400@hendlrudi.at
SUMMARY:Frische Grillhähnchen bei SPAR in Uderns
DESCRIPTION:
URL:https://hendlrudi.at/kalender/frische-grillhahnchen-bei-spar-in-uderns-19/
LOCATION:SPAR Markt Uderns\, Dorfstr. 81\, Uderns\, Tirol\, 6271\, Austria
END:VEVENT
BEGIN:VEVENT
DTSTART;TZID=Europe/Vienna:20210813T110000
DTEND;TZID=Europe/Vienna:20210813T130000
DTSTAMP:20260421T191153
CREATED:20210721T083325Z
LAST-MODIFIED:20210721T083325Z
UID:637-1628852400-1628859600@hendlrudi.at
SUMMARY:Frische Grillhähnchen beim Bauernmarkt in Mayrhofen
DESCRIPTION:
URL:https://hendlrudi.at/kalender/frische-grillhahnchen-beim-bauernmarkt-in-mayrhofen-8/
LOCATION:Zillertaler Bauernmarkt\, Josef-Riedl-Platz\, Mayrhofen\, Tirol\, 6290\, Austria
END:VEVENT
BEGIN:VEVENT
DTSTART;TZID=Europe/Vienna:20210814T110000
DTEND;TZID=Europe/Vienna:20210814T123000
DTSTAMP:20260421T191153
CREATED:20210721T083409Z
LAST-MODIFIED:20210721T083409Z
UID:639-1628938800-1628944200@hendlrudi.at
SUMMARY:Frische Grillhähnchen bei Expert Moser in Stumm
DESCRIPTION:
URL:https://hendlrudi.at/kalender/frische-grillhahnchen-bei-expert-moser-in-stumm-22/
LOCATION:Expert Moser in Stumm\, Obere März 1\, Stumm\, Tirol\, 6275\, Austria
END:VEVENT
BEGIN:VEVENT
DTSTART;TZID=Europe/Vienna:20210820T110000
DTEND;TZID=Europe/Vienna:20210820T130000
DTSTAMP:20260421T191153
CREATED:20210721T083453Z
LAST-MODIFIED:20210721T083453Z
UID:641-1629457200-1629464400@hendlrudi.at
SUMMARY:Frische Grillhähnchen bei SPAR in Schlitters
DESCRIPTION:
URL:https://hendlrudi.at/kalender/frische-grillhahnchen-bei-spar-in-schlitters-16/
LOCATION:SPAR Markt Schlitters\, Nr. 327\, Schlitters\, Tirol\, 6262\, Austria
END:VEVENT
BEGIN:VEVENT
DTSTART;TZID=Europe/Vienna:20210821T110000
DTEND;TZID=Europe/Vienna:20210821T130000
DTSTAMP:20260421T191153
CREATED:20210721T083532Z
LAST-MODIFIED:20210721T083532Z
UID:643-1629543600-1629550800@hendlrudi.at
SUMMARY:Frische Grillhähnchen bei SPAR in Uderns
DESCRIPTION:
URL:https://hendlrudi.at/kalender/frische-grillhahnchen-bei-spar-in-uderns-20/
LOCATION:SPAR Markt Schlitters\, Nr. 327\, Schlitters\, Tirol\, 6262\, Austria
END:VEVENT
BEGIN:VEVENT
DTSTART;TZID=Europe/Vienna:20210827T110000
DTEND;TZID=Europe/Vienna:20210827T130000
DTSTAMP:20260421T191153
CREATED:20210824T065354Z
LAST-MODIFIED:20210824T065354Z
UID:650-1630062000-1630069200@hendlrudi.at
SUMMARY:Frische Grillhähnchen bei SPAR in Schlitters
DESCRIPTION:
URL:https://hendlrudi.at/kalender/frische-grillhahnchen-bei-spar-in-schlitters-17/
LOCATION:SPAR Markt Schlitters\, Nr. 327\, Schlitters\, Tirol\, 6262\, Austria
END:VEVENT
BEGIN:VEVENT
DTSTART;TZID=Europe/Vienna:20210828T110000
DTEND;TZID=Europe/Vienna:20210828T130000
DTSTAMP:20260421T191153
CREATED:20210721T083616Z
LAST-MODIFIED:20210721T083616Z
UID:645-1630148400-1630155600@hendlrudi.at
SUMMARY:Frische Grillhähnchen bei Expert Moser in Stumm
DESCRIPTION:
URL:https://hendlrudi.at/kalender/frische-grillhahnchen-bei-expert-moser-in-stumm-23/
LOCATION:Expert Moser in Stumm\, Obere März 1\, Stumm\, Tirol\, 6275\, Austria
END:VEVENT
BEGIN:VEVENT
DTSTART;TZID=Europe/Vienna:20210829T110000
DTEND;TZID=Europe/Vienna:20210829T130000
DTSTAMP:20260421T191153
CREATED:20210826T070038Z
LAST-MODIFIED:20210826T070038Z
UID:652-1630234800-1630242000@hendlrudi.at
SUMMARY:frische Grillhähnchen beim Dorfkulinarium am Kapfingerplatz
DESCRIPTION:
URL:https://hendlrudi.at/kalender/frische-grillhahnchen-beim-dorfkulinarium-am-kapfingerplatz/
LOCATION:Dorfleben Kapfing – Kleinboden\, Kleinbodenstr. 39\, Kapfing\, Tirol\, 6263\, Austria
END:VEVENT
END:VCALENDAR