BEGIN:VCALENDAR
VERSION:2.0
PRODID:-//Beste Hendl im Zillertal - ECPv5.12.4//NONSGML v1.0//EN
CALSCALE:GREGORIAN
METHOD:PUBLISH
X-WR-CALNAME:Beste Hendl im Zillertal
X-ORIGINAL-URL:https://hendlrudi.at
X-WR-CALDESC:Events for Beste Hendl im Zillertal
REFRESH-INTERVAL;VALUE=DURATION:PT1H
X-Robots-Tag:noindex
X-PUBLISHED-TTL:PT1H
BEGIN:VTIMEZONE
TZID:Europe/Vienna
BEGIN:DAYLIGHT
TZOFFSETFROM:+0100
TZOFFSETTO:+0200
TZNAME:CEST
DTSTART:20210328T010000
END:DAYLIGHT
BEGIN:STANDARD
TZOFFSETFROM:+0200
TZOFFSETTO:+0100
TZNAME:CET
DTSTART:20211031T010000
END:STANDARD
END:VTIMEZONE
BEGIN:VEVENT
DTSTART;TZID=Europe/Vienna:20211002T110000
DTEND;TZID=Europe/Vienna:20211002T123000
DTSTAMP:20260421T141314
CREATED:20210927T082125Z
LAST-MODIFIED:20210927T082125Z
UID:677-1633172400-1633177800@hendlrudi.at
SUMMARY:Frische Grillhähnchen bei SPAR in Uderns
DESCRIPTION:
URL:https://hendlrudi.at/kalender/frische-grillhahnchen-bei-spar-in-uderns-23/
LOCATION:SPAR Markt Uderns\, Dorfstr. 81\, Uderns\, Tirol\, 6271\, Austria
END:VEVENT
BEGIN:VEVENT
DTSTART;TZID=Europe/Vienna:20211008T110000
DTEND;TZID=Europe/Vienna:20211008T123000
DTSTAMP:20260421T141314
CREATED:20210927T082234Z
LAST-MODIFIED:20210927T082234Z
UID:679-1633690800-1633696200@hendlrudi.at
SUMMARY:Frische Grillhähnchen bei SPAR in Schlitters
DESCRIPTION:
URL:https://hendlrudi.at/kalender/frische-grillhahnchen-bei-spar-in-schlitters-20/
LOCATION:SPAR Markt Schlitters\, Nr. 327\, Schlitters\, Tirol\, 6262\, Austria
END:VEVENT
BEGIN:VEVENT
DTSTART;TZID=Europe/Vienna:20211009T080000
DTEND;TZID=Europe/Vienna:20211009T170000
DTSTAMP:20260421T141314
CREATED:20210927T082339Z
LAST-MODIFIED:20210927T082339Z
UID:681-1633766400-1633798800@hendlrudi.at
SUMMARY:Frische Grillhähnchen bei Expert Moser in Stumm
DESCRIPTION:
URL:https://hendlrudi.at/kalender/frische-grillhahnchen-bei-expert-moser-in-stumm-26/
LOCATION:Expert Moser in Stumm\, Obere März 1\, Stumm\, Tirol\, 6275\, Austria
END:VEVENT
BEGIN:VEVENT
DTSTART;TZID=Europe/Vienna:20211016T110000
DTEND;TZID=Europe/Vienna:20211016T123000
DTSTAMP:20260421T141314
CREATED:20210927T082450Z
LAST-MODIFIED:20210927T082450Z
UID:683-1634382000-1634387400@hendlrudi.at
SUMMARY:Frische Grillhähnchen bei SPAR in Uderns
DESCRIPTION:
URL:https://hendlrudi.at/kalender/frische-grillhahnchen-bei-spar-in-uderns-24/
LOCATION:SPAR Markt Uderns\, Dorfstr. 81\, Uderns\, Tirol\, 6271\, Austria
END:VEVENT
BEGIN:VEVENT
DTSTART;TZID=Europe/Vienna:20211022T110000
DTEND;TZID=Europe/Vienna:20211022T130000
DTSTAMP:20260421T141314
CREATED:20210927T082530Z
LAST-MODIFIED:20210927T082530Z
UID:685-1634900400-1634907600@hendlrudi.at
SUMMARY:Frische Grillhähnchen bei SPAR in Schlitters
DESCRIPTION:
URL:https://hendlrudi.at/kalender/frische-grillhahnchen-bei-spar-in-schlitters-21/
LOCATION:SPAR Markt Schlitters\, Nr. 327\, Schlitters\, Tirol\, 6262\, Austria
END:VEVENT
BEGIN:VEVENT
DTSTART;TZID=Europe/Vienna:20211023T110000
DTEND;TZID=Europe/Vienna:20211023T123000
DTSTAMP:20260421T141314
CREATED:20210927T082633Z
LAST-MODIFIED:20210927T082633Z
UID:687-1634986800-1634992200@hendlrudi.at
SUMMARY:Frische Grillhähnchen bei Expert Moser in Stumm
DESCRIPTION:
URL:https://hendlrudi.at/kalender/frische-grillhahnchen-bei-expert-moser-in-stumm-27/
LOCATION:Expert Moser in Stumm\, Obere März 1\, Stumm\, Tirol\, 6275\, Austria
END:VEVENT
BEGIN:VEVENT
DTSTART;TZID=Europe/Vienna:20211030T110000
DTEND;TZID=Europe/Vienna:20211030T130000
DTSTAMP:20260421T141314
CREATED:20210927T082718Z
LAST-MODIFIED:20210927T082718Z
UID:689-1635591600-1635598800@hendlrudi.at
SUMMARY:Frische Grillhähnchen bei SPAR in Uderns
DESCRIPTION:
URL:https://hendlrudi.at/kalender/frische-grillhahnchen-bei-spar-in-uderns-25/
LOCATION:SPAR Markt Uderns\, Dorfstr. 81\, Uderns\, Tirol\, 6271\, Austria
END:VEVENT
END:VCALENDAR