BEGIN:VCALENDAR
VERSION:2.0
PRODID:-//Beste Hendl im Zillertal - ECPv5.12.4//NONSGML v1.0//EN
CALSCALE:GREGORIAN
METHOD:PUBLISH
X-WR-CALNAME:Beste Hendl im Zillertal
X-ORIGINAL-URL:https://hendlrudi.at
X-WR-CALDESC:Events for Beste Hendl im Zillertal
REFRESH-INTERVAL;VALUE=DURATION:PT1H
X-Robots-Tag:noindex
X-PUBLISHED-TTL:PT1H
BEGIN:VTIMEZONE
TZID:Europe/Vienna
BEGIN:DAYLIGHT
TZOFFSETFROM:+0100
TZOFFSETTO:+0200
TZNAME:CEST
DTSTART:20220327T010000
END:DAYLIGHT
BEGIN:STANDARD
TZOFFSETFROM:+0200
TZOFFSETTO:+0100
TZNAME:CET
DTSTART:20221030T010000
END:STANDARD
END:VTIMEZONE
BEGIN:VEVENT
DTSTART;TZID=Europe/Vienna:20220305T110000
DTEND;TZID=Europe/Vienna:20220305T123000
DTSTAMP:20260421T054444
CREATED:20220225T103038Z
LAST-MODIFIED:20220225T103101Z
UID:751-1646478000-1646483400@hendlrudi.at
SUMMARY:Frische Grillhähnchen bei SPAR in Uderns
DESCRIPTION:
URL:https://hendlrudi.at/kalender/frische-grillhaehnchen-bei-spar-in-uderns-3/
LOCATION:SPAR Markt Uderns\, Dorfstr. 81\, Uderns\, Tirol\, 6271\, Austria
END:VEVENT
BEGIN:VEVENT
DTSTART;TZID=Europe/Vienna:20220311T110000
DTEND;TZID=Europe/Vienna:20220311T123000
DTSTAMP:20260421T054444
CREATED:20220225T103144Z
LAST-MODIFIED:20220225T103144Z
UID:753-1646996400-1647001800@hendlrudi.at
SUMMARY:Frische Grillhähnchen bei SPAR in Schlitters
DESCRIPTION:
URL:https://hendlrudi.at/kalender/frische-grillhaehnchen-bei-spar-in-schlitters-3/
LOCATION:SPAR Markt Schlitters\, Nr. 327\, Schlitters\, Tirol\, 6262\, Austria
END:VEVENT
BEGIN:VEVENT
DTSTART;TZID=Europe/Vienna:20220312T110000
DTEND;TZID=Europe/Vienna:20220312T123000
DTSTAMP:20260421T054444
CREATED:20220225T103231Z
LAST-MODIFIED:20220225T103231Z
UID:755-1647082800-1647088200@hendlrudi.at
SUMMARY:Frische Grillhähnchen bei DORFBÄCK in Stumm (Frühschoppen)
DESCRIPTION:
URL:https://hendlrudi.at/kalender/frische-grillhaehnchen-bei-dorfbaeck-in-stumm-fruehschoppen/
LOCATION:Dorfbäck Stumm\, Dorf 11\, Stumm\, Tirol\, 6275\, Austria
END:VEVENT
BEGIN:VEVENT
DTSTART;TZID=Europe/Vienna:20220319T110000
DTEND;TZID=Europe/Vienna:20220319T123000
DTSTAMP:20260421T054444
CREATED:20220225T103332Z
LAST-MODIFIED:20220225T103332Z
UID:757-1647687600-1647693000@hendlrudi.at
SUMMARY:Frische Grillhähnchen bei SPAR in Uderns
DESCRIPTION:
URL:https://hendlrudi.at/kalender/frische-grillhaehnchen-bei-spar-in-uderns-4/
LOCATION:SPAR Markt Uderns\, Dorfstr. 81\, Uderns\, Tirol\, 6271\, Austria
END:VEVENT
BEGIN:VEVENT
DTSTART;TZID=Europe/Vienna:20220325T080000
DTEND;TZID=Europe/Vienna:20220325T170000
DTSTAMP:20260421T054444
CREATED:20220225T103956Z
LAST-MODIFIED:20220225T103956Z
UID:759-1648195200-1648227600@hendlrudi.at
SUMMARY:Frische Grillhähnchen bei Spar in Schlitters
DESCRIPTION:
URL:https://hendlrudi.at/kalender/frische-grillhaehnchen-bei-spar-in-schlitters-4/
LOCATION:SPAR Markt Schlitters\, Nr. 327\, Schlitters\, Tirol\, 6262\, Austria
END:VEVENT
END:VCALENDAR