BEGIN:VCALENDAR
VERSION:2.0
PRODID:-//Beste Hendl im Zillertal - ECPv5.12.4//NONSGML v1.0//EN
CALSCALE:GREGORIAN
METHOD:PUBLISH
X-WR-CALNAME:Beste Hendl im Zillertal
X-ORIGINAL-URL:https://hendlrudi.at
X-WR-CALDESC:Events for Beste Hendl im Zillertal
REFRESH-INTERVAL;VALUE=DURATION:PT1H
X-Robots-Tag:noindex
X-PUBLISHED-TTL:PT1H
BEGIN:VTIMEZONE
TZID:Europe/Vienna
BEGIN:DAYLIGHT
TZOFFSETFROM:+0100
TZOFFSETTO:+0200
TZNAME:CEST
DTSTART:20220327T010000
END:DAYLIGHT
BEGIN:STANDARD
TZOFFSETFROM:+0200
TZOFFSETTO:+0100
TZNAME:CET
DTSTART:20221030T010000
END:STANDARD
END:VTIMEZONE
BEGIN:VEVENT
DTSTART;TZID=Europe/Vienna:20220507T110000
DTEND;TZID=Europe/Vienna:20220507T123000
DTSTAMP:20260421T025738
CREATED:20220426T074353Z
LAST-MODIFIED:20220426T074353Z
UID:784-1651921200-1651926600@hendlrudi.at
SUMMARY:Frische Grillhähnchen bei Metzgerwirt in Uderns
DESCRIPTION:
URL:https://hendlrudi.at/kalender/frische-grillhaehnchen-bei-metzgerwirt-in-uderns/
LOCATION:Der Metzgerwirt
END:VEVENT
BEGIN:VEVENT
DTSTART;TZID=Europe/Vienna:20220513T110000
DTEND;TZID=Europe/Vienna:20220513T130000
DTSTAMP:20260421T025738
CREATED:20220426T074441Z
LAST-MODIFIED:20220426T074441Z
UID:786-1652439600-1652446800@hendlrudi.at
SUMMARY:Frische Grillhähnchen bei Spar in Schlitters
DESCRIPTION:
URL:https://hendlrudi.at/kalender/frische-grillhaehnchen-bei-spar-in-schlitters-7/
LOCATION:SPAR Markt Schlitters\, Nr. 327\, Schlitters\, Tirol\, 6262\, Austria
END:VEVENT
BEGIN:VEVENT
DTSTART;TZID=Europe/Vienna:20220514T110000
DTEND;TZID=Europe/Vienna:20220514T123000
DTSTAMP:20260421T025738
CREATED:20220426T074520Z
LAST-MODIFIED:20220426T074520Z
UID:788-1652526000-1652531400@hendlrudi.at
SUMMARY:Frische Grillhähnchen bei Expert Moser in Stumm
DESCRIPTION:
URL:https://hendlrudi.at/kalender/frische-grillhaehnchen-bei-expert-moser-in-stumm-4/
LOCATION:Expert Moser in Stumm\, Obere März 1\, Stumm\, Tirol\, 6275\, Austria
END:VEVENT
BEGIN:VEVENT
DTSTART;TZID=Europe/Vienna:20220520T110000
DTEND;TZID=Europe/Vienna:20220520T130000
DTSTAMP:20260421T025738
CREATED:20220426T074710Z
LAST-MODIFIED:20220426T074710Z
UID:790-1653044400-1653051600@hendlrudi.at
SUMMARY:Frische Grillhähnchen beim Bauernmarkt in Mayrhofen
DESCRIPTION:
URL:https://hendlrudi.at/kalender/frische-grillhaehnchen-beim-bauernmarkt-in-mayrhofen/
LOCATION:Zillertaler Bauernmarkt\, Josef-Riedl-Platz\, Mayrhofen\, Tirol\, 6290\, Austria
END:VEVENT
BEGIN:VEVENT
DTSTART;TZID=Europe/Vienna:20220521T110000
DTEND;TZID=Europe/Vienna:20220521T123000
DTSTAMP:20260421T025738
CREATED:20220426T074803Z
LAST-MODIFIED:20220426T074803Z
UID:792-1653130800-1653136200@hendlrudi.at
SUMMARY:Frische Grillhähnchen beim Metzgerwirt in Uderns
DESCRIPTION:
URL:https://hendlrudi.at/kalender/frische-grillhaehnchen-beim-metzgerwirt-in-uderns/
LOCATION:Der Metzgerwirt
END:VEVENT
BEGIN:VEVENT
DTSTART;VALUE=DATE:20220527
DTEND;VALUE=DATE:20220528
DTSTAMP:20260421T025738
CREATED:20220426T075219Z
LAST-MODIFIED:20220426T075219Z
UID:799-1653609600-1653695999@hendlrudi.at
SUMMARY:Frische Grillhähnchen bei der Blechlawine in Mayrhofen
DESCRIPTION:
URL:https://hendlrudi.at/kalender/frische-grillhaehnchen-bei-der-blechlawine-in-mayrhofen-2/
LOCATION:Blechlawine Mayrhofen\, Dursterstr. 225\, Mayrhofen\, Tirol\, 6290\, Austria
END:VEVENT
BEGIN:VEVENT
DTSTART;VALUE=DATE:20220528
DTEND;VALUE=DATE:20220529
DTSTAMP:20260421T025738
CREATED:20220426T075256Z
LAST-MODIFIED:20220426T075256Z
UID:801-1653696000-1653782399@hendlrudi.at
SUMMARY:Frische Grillhähnchen bei der Blechlawine in Mayrhofen
DESCRIPTION:
URL:https://hendlrudi.at/kalender/frische-grillhaehnchen-bei-der-blechlawine-in-mayrhofen-3/
LOCATION:Blechlawine Mayrhofen\, Dursterstr. 225\, Mayrhofen\, Tirol\, 6290\, Austria
END:VEVENT
BEGIN:VEVENT
DTSTART;VALUE=DATE:20220529
DTEND;VALUE=DATE:20220530
DTSTAMP:20260421T025738
CREATED:20220426T075324Z
LAST-MODIFIED:20220426T075324Z
UID:803-1653782400-1653868799@hendlrudi.at
SUMMARY:Frische Grillhähnchen bei der Blechlawine in Mayrhofen
DESCRIPTION:
URL:https://hendlrudi.at/kalender/frische-grillhaehnchen-bei-der-blechlawine-in-mayrhofen-4/
LOCATION:Blechlawine Mayrhofen\, Dursterstr. 225\, Mayrhofen\, Tirol\, 6290\, Austria
END:VEVENT
END:VCALENDAR