BEGIN:VCALENDAR
VERSION:2.0
PRODID:-//Beste Hendl im Zillertal - ECPv5.12.4//NONSGML v1.0//EN
CALSCALE:GREGORIAN
METHOD:PUBLISH
X-WR-CALNAME:Beste Hendl im Zillertal
X-ORIGINAL-URL:https://hendlrudi.at
X-WR-CALDESC:Events for Beste Hendl im Zillertal
REFRESH-INTERVAL;VALUE=DURATION:PT1H
X-Robots-Tag:noindex
X-PUBLISHED-TTL:PT1H
BEGIN:VTIMEZONE
TZID:Europe/Vienna
BEGIN:DAYLIGHT
TZOFFSETFROM:+0100
TZOFFSETTO:+0200
TZNAME:CEST
DTSTART:20220327T010000
END:DAYLIGHT
BEGIN:STANDARD
TZOFFSETFROM:+0200
TZOFFSETTO:+0100
TZNAME:CET
DTSTART:20221030T010000
END:STANDARD
END:VTIMEZONE
BEGIN:VEVENT
DTSTART;TZID=Europe/Vienna:20220803T160000
DTEND;TZID=Europe/Vienna:20220803T180000
DTSTAMP:20260420T214741
CREATED:20220729T074910Z
LAST-MODIFIED:20220729T074910Z
UID:852-1659542400-1659549600@hendlrudi.at
SUMMARY:Frische Grillhähnchen beim Bauernmarkt in Zell am Ziller
DESCRIPTION:
URL:https://hendlrudi.at/kalender/frische-grillhaehnchen-beim-bauernmarkt-in-zell-am-ziller-3/
LOCATION:Zillertaler Bauernmarkt Zell am Ziller\, Unterdorf 1\, Zell am Ziller\, Tirol\, 6280\, Austria
END:VEVENT
BEGIN:VEVENT
DTSTART;TZID=Europe/Vienna:20220805T110000
DTEND;TZID=Europe/Vienna:20220805T130000
DTSTAMP:20260420T214741
CREATED:20220729T075111Z
LAST-MODIFIED:20220729T075111Z
UID:854-1659697200-1659704400@hendlrudi.at
SUMMARY:Frische Grillhähnchen bei Spar in Schlitters
DESCRIPTION:
URL:https://hendlrudi.at/kalender/frische-grillhaehnchen-bei-spar-in-schlitters-12/
LOCATION:SPAR Markt Schlitters\, Nr. 327\, Schlitters\, Tirol\, 6262\, Austria
END:VEVENT
BEGIN:VEVENT
DTSTART;TZID=Europe/Vienna:20220806T110000
DTEND;TZID=Europe/Vienna:20220806T130000
DTSTAMP:20260420T214741
CREATED:20220729T075350Z
LAST-MODIFIED:20220729T075350Z
UID:856-1659783600-1659790800@hendlrudi.at
SUMMARY:Frische Grillhähnchen bei Expert Moser in Stumm
DESCRIPTION:
URL:https://hendlrudi.at/kalender/frische-grillhaehnchen-bei-expert-moser-in-stumm-9/
LOCATION:Expert Moser in Stumm\, Obere März 1\, Stumm\, Tirol\, 6275\, Austria
END:VEVENT
BEGIN:VEVENT
DTSTART;TZID=Europe/Vienna:20220810T160000
DTEND;TZID=Europe/Vienna:20220810T183000
DTSTAMP:20260420T214741
CREATED:20220729T075434Z
LAST-MODIFIED:20220729T075434Z
UID:858-1660147200-1660156200@hendlrudi.at
SUMMARY:Frische Grillhähnchen beim Bauernmarkt in Zell
DESCRIPTION:
URL:https://hendlrudi.at/kalender/frische-grillhaehnchen-beim-bauernmarkt-in-zell/
LOCATION:Zillertaler Bauernmarkt Zell am Ziller\, Unterdorf 1\, Zell am Ziller\, Tirol\, 6280\, Austria
END:VEVENT
BEGIN:VEVENT
DTSTART;TZID=Europe/Vienna:20220819T110000
DTEND;TZID=Europe/Vienna:20220819T130000
DTSTAMP:20260420T214741
CREATED:20220729T075717Z
LAST-MODIFIED:20220729T075717Z
UID:860-1660906800-1660914000@hendlrudi.at
SUMMARY:Frische Grillhähnchen beim Bauernmarkt in Mayrhofen
DESCRIPTION:
URL:https://hendlrudi.at/kalender/frische-grillhaehnchen-beim-bauernmarkt-in-mayrhofen-4/
LOCATION:Zillertaler Bauernmarkt\, Josef-Riedl-Platz\, Mayrhofen\, Tirol\, 6290\, Austria
END:VEVENT
BEGIN:VEVENT
DTSTART;TZID=Europe/Vienna:20220820T110000
DTEND;TZID=Europe/Vienna:20220820T123000
DTSTAMP:20260420T214741
CREATED:20220729T075812Z
LAST-MODIFIED:20220729T075812Z
UID:862-1660993200-1660998600@hendlrudi.at
SUMMARY:Frische Grillhähnchen bei Expert Moser in Stumm
DESCRIPTION:
URL:https://hendlrudi.at/kalender/frische-grillhaehnchen-bei-expert-moser-in-stumm-10/
LOCATION:Expert Moser in Stumm\, Obere März 1\, Stumm\, Tirol\, 6275\, Austria
END:VEVENT
BEGIN:VEVENT
DTSTART;TZID=Europe/Vienna:20220826T110000
DTEND;TZID=Europe/Vienna:20220826T130000
DTSTAMP:20260420T214741
CREATED:20220729T075909Z
LAST-MODIFIED:20220729T075909Z
UID:864-1661511600-1661518800@hendlrudi.at
SUMMARY:Frische Grillhähnchen bei Spar in Schlitters
DESCRIPTION:
URL:https://hendlrudi.at/kalender/frische-grillhaehnchen-bei-spar-in-schlitters-13/
LOCATION:SPAR Markt Schlitters\, Nr. 327\, Schlitters\, Tirol\, 6262\, Austria
END:VEVENT
END:VCALENDAR